BEGIN:VCALENDAR
VERSION:2.0
PRODID:-//https://www.kino-achteinhalb.de///NONSGML kigkonsult.se iCalcreator 2.10.15//
METHOD:PUBLISH
BEGIN:VEVENT
UID:20260423T191024CEST-8130vX3Lx7@https://www.kino-achteinhalb.de/
DTSTAMP:20260423T171024Z
DESCRIPTION:Am Freitag\, den 20. Januar 1995\, lief unsere erste öffentlich
 e Filmvorführung (damals noch in Altenhagen).Diesen Samstag\, den 15. Febr
 uar 2020\, möchten wir mit unserem Publikum auf das fünfzwanzigjährige Bes
 tehen des „achteinhalb – Kino &amp\; Kultur e.V.“ anstoßen.Kulinarisch lad
 en wir Sie/Euch zu Fingerfood &amp\; Sekt und Kaffee &amp\; Kuchen ein\,ci
 neastisch zu Kurzfilmen\, die wir bei der Kurzfilmagentur HH geliehen habe
 n.Wir öffnen unser Kino bereits ab 18 Uhr. Das Ganze ist aber so gedacht\,
  dass man auch jederzeit später „aufschlagen“ kann. Wer vorher z. B. in di
 e HALLE 19 möchte\, kann anschließend gerne noch bei uns vorbeischauen.Als
 o\, wir freuen uns\, wenn Sie uns am Samstag die Ehre geben und Freude mac
 hen.\n \nDer Artikel der CZ (von Doris Hennies) zu unserem 25-jährigen Jub
 iläumDer Artikel von Celle Heute (von Anke Schlicht) zu unserem 25-jährige
 n Jubiläum\n \n==========================Momentan hakt es gerade mit der Z
 eit für die Erstellung des eigentlich angesagten Textes.Zwischendurch werd
 en wird uns bemühen\, diese Lücke bis Samstag zu schließen und ein paar Ze
 ilen zum achteinhalb zu verlieren.Bis dahin verlinken wir auf unser aussag
 ekräftiges Intro 'Über uns selbst' auf dieser Webseite.===================
 ==================================Kino achteinhalb hatte in den 20 Jahren 
 insgesamt 41 aktive Mitglieder:Aenne                     AndreasAndreas   
                   Angela                      BeateBirgit                 
     Carsten                     ChristineClaudiaClaudia  Cornelia         
           DietherDietmarDorotheaFelixFriedhelmGunnar                     H
 eikeIsa                     JanJulianeJürgenKathrin                     Kl
 ausKlaus                     Klaus                     Mandy              
        Marianne                     NatashaPetraRainer                    
  Ronald                     RosemarieStefanSven                     Thommy
                      TineTorsten                     UlrichUte            
          Uwe                     Mit acht Mitgliedern haben wir den Verein
  gegründet\, aktuell haben wir 13 Mitglieder und sechs passive Mitglieder.
 ===============================================================Kino achtei
 nhalb ist nicht institutionell eingebunden\, wie es viele Programmkinos si
 nd\, sei es\, dass die Stadt oder die VHS mit den Kinos in einer engen Par
 tnerschaft stehen. Man kann als Kulturverein bei weitem keine fünfundzwanz
 ig Jahre erreichen\, wenn man sich nicht in irgendeiner Form gesellschaftl
 ich vernetzt hat. Kino achteinhalb hat den Weg gewählt\, sich unmittelbar 
 über Kooperationen mit den Menschen in der Region zu vernetzen und so auch
  ein Kino für diese Menschen zu sein.Hier die (unsortierte) Liste unserer 
 bisherigen über hundert Kooperationspartner in den zwanzig Jahren (Vermutl
 ich ist sie nicht vollständig\, sorry an die\, die wir vergessen haben sol
 lten.):ADFC-CelleAktion MenschAlbert-Schweitzer Familienwerk e.V. – Projek
 t Ambulante Betreuung CelleAllerKunst&amp\;TapasAltstadtfest CelleAmbulant
 e Hilfe CelleAmnesty International CelleArbeitskreis Inklusion des Kreisel
 ternrats Celle Arbeitskreis JugendgesundheitAsphalt Celleattac CelleAWO Kr
 eisverband Celle e.V.BBK Celle – Bund Bildender KünstlerBerufsverband der 
 Kinder- und Jugendärzte Qualitätszirkel CelleBibliotheksgesellschaft Celle
  (Jugendbuchwoche)Blinden und Sehbehindertenverein Nord-Ost-Niedersachsen 
 e.V. (Celle)Boman MuseumBrennessel e.V.Bücherhaus BuchfinkBund für Umwelt 
 und Naturschutz Deutschland (BUND)Bundesministerium für Familie\, Senioren
 \, Frauen und JugendBuntes Haus e.V.Bürgerinitiative (BI) FlotwedelCafe Ri
 o'sCapito e.V. – Vielfalt in Celle Caritasverband für die Stadt Celle und 
 den Landkreis Celle e.V.CD-KaserneCeller Arbeitskreis Kampagne Tatort Kurd
 istanCeller Bündnis für einen gerechten WelthandelCeller Forum gegen Atome
 nergieCeller Forum gegen Gewalt und RechtsextremismusCeller FrauenforumCRI
  – Celler RockinitiativeDer Paritätische CelleDeutsch-Französische Gesells
 chaft CelleDeutscher Kinderschutzbund – Ortsverband Celle e.V.DGB Kreisver
 band CelleDiakonie CelleDiakonisches Werk Celle – Arbeitskreis (AK) Auslae
 nderEv.-luth. Kirchenkreis CelleÊzîdisches Kulturzentrum Celle und Umgebun
 g e. V. (EKZ)Familienbüro CelleFerienpass CelleFindelhof (Kaleidoskop)Frau
 enhaus CelleFridays for Future Celle GajahGedenkstätte Bergen Belsen und S
 tiftung Niedersächsische GedenkstättenGesellschaft für Christlich-jüdische
  Zusammenarbeit CelleGreenBirthGreenpeace CelleHebammenschule des AKH Cell
 eHospiz- und Palliativwoche CelleInstitut für Bienenkunde CelleJüdische Ge
 meinde CelleKinderhilfswerk Plan International – Aktionsgruppe CelleKreisf
 euerwehrverband Celle e. V.Kreisschiedsrichtervereinigung CelleKULTURquerb
 eet CELLEKUNST &amp\; BÜHNEKunstverein CelleLandesarmutskonferenz Niedersa
 chsenLandkreis Celle – Gesundheitsamt &amp\; JugendamtLandkreis Celle – Gl
 eichstellungsbeauftragte/FrauenbüroLandkreis Celle – Ordnungsamt – Migrati
 on und Integration Lebenshilfe Celle gGmbHLiSt-Celle – 'Land in Sicht – Tr
 ansition'Lobetalarbeit e. V.\, Innere MissionLobetalarbeit e.V.Mädchenarbe
 itskreis CelleNABU Gruppe Celle Neue Jazzinitiative Celle e.V.Onkologische
 s Forum Celle e.V.  otto haesler initiative e.V. Projekt Brückenbau Celle 
 e.V.Psychosoziale Beratungsstelle CelleReferat für Integration der Stadt C
 elleRoma Center Göttingen e.V. Rosa-Luxemburg Club Celle (RLC)RWLE Möller 
 StiftungSchulen: Paul-Klee-Schule\, Kaiserin-Auguste-Viktoria-Gymnasiums\,
  Oberschule Celle 1\, Immanuel-Kant-Gymnasium Lachendorf\, Sibylla-Merian-
 Gymnasium Meinersen\, Kooperative Gesamtschule Schwarmstedt\, Haupt- und R
 ealschule Hambühren Schlosstheater CelleStadt Celle – Fachdienst Jugendarb
 eitStadt Celle – FamilienbüroStadt Celle – Koordinierungsstelle Integratio
 n Stadt Celle – Referat für Integration Stadt Celle – SeniorenbeiratStadta
 rchiv CelleStadtbibliothek CelleTerres des FemmesTourismusbüro CelleTransi
 tion Town Initiative Cellever.di Ortsgruppe CelleVHS CelleVVN-BdA CelleWel
 tladen Celle==============================================================
 =\n=================================================================\nImme
 r wieder gehen wir auf Filmwünsche ein\, die an uns herangetragen werden\,
  auch wenn wir die Menschen gar nicht kennen\, sondern der Kontakt sich au
 f Email beschränkt.\nDer Film Citizenfour\, der bei uns am 18. Februar 201
 5 lief\, ist z. B. allein deswegen in unser Programm gekommen (Wir hatten 
 es bereits verworfen\, den Film zu zeigen.)\, weil es einer jungen Frau (W
 ir kennen sie bisher nicht.) ein Anliegen war\, den Film zu sehen.\nGesend
 et: Mittwoch\, 31. Dezember 2014 um 15:08 UhrVon: 'Kino achteinhalb' &lt\;
 nichtantworten@kino-achteinhalb.de&gt\;An: xxx@kino-achteinhalb.de Betreff
 : achteinhalb - Kino und Kultur e.V. in Celle: Filmwunsch 'Citizenfour' Di
 es ist eine Mailanfrage via www.kino-achteinhalb.de/programm von: Anne &lt
 \;XXX@gmx.de&gt\;Hallo!Ich möchte gern den Film 'Citizenfour' sehen!http:/
 /de.wikipedia.org/wiki/Citizenfour_%28Film%29https://citizenfourfilm.comWa
 nn zeigt ihr den?Anne==============================================Gesende
 t: Mittwoch\, 31. Dezember 2014 um 21:11 UhrVon: Stefan.Eichardt@An: xxx@g
 mx.deBetreff: Aw: achteinhalb - Kino und Kultur e.V. in Celle: Filmwunsch 
 'Citizenfour'Liebe Anne\, der Streifen läuft am Montag\, den 12. Januar\, 
 um 15\, 17.30 und 20 Uhr im sogenannten 'Kunstfilmprogramm' des Kammers. L
 iefe er nicht im Kammer\, hätten wir ihn ohne Frage gezeigt\, allein um Ce
 lle diesen Film nicht vorzuenthalten. Wenn Du an Filmen interessiert bist\
 , die ihren Fokus aufs Politische und Inhaltliche legen\, empfehle ich Dir
  aus unserem Programm 'Zwei Tage\, eine Nacht'. Nun wollte ich Dir erkläre
 n\, warum wir den Film\, obwohl ich Sabine Elbs vom Verleih Piffl bereits 
 im November gesagt hatte\, dass wir ihn zeigen möchten\, letztlich nicht i
 ns Programm aufgenommen haben. Wir hätten ihn schon im Dezember zeigen kön
 nen\, aber wir wollten halt immer nicht so richtig. Nämlich\, weil ich dav
 on ausgehe\, dass man im Grunde kaum was relevant Neues erfährt. Kommen we
 rden vermutlich die\, die sich eh schon informiert haben und/oder die\, di
 e Snowden mal längere Zeit im Gespräch sehen möchten und die sich dann all
 e nach dem Film in Gutmenschenmanier betroffen attestieren\, wie schlimm d
 as alles sei. Bundesweit hat der Film 48.025 zahlenden Zuschauer in 8 Woch
 en gemacht (Hobbit und die Tribute in weniger Zeit über 4 Millionen). Auße
 rdem finde ich länger als 90 Minuten bei Dokumentarfilmen ätzend da quälen
 d - dieser liegt bei 113 Minuten. Der Spaß kostet uns ca. 180 Euro und wir
  hätten ihn an Freitag &amp\; Samstag zeigen und dafür auf einen anderen F
 ilm verzichten müssen. Ich gebe aber zu\, dass ich mir Snowden auch mal ne
  zeitlang im Interview ansehen würde und wollte halt warten und dass dann 
 später im TV über Internet aufnehmen und mir dann auszugsweise zu Gemüte f
 ühren. Ich habe aufgrund Deiner Mail beim RLC durchgerufen und gefragt: Wi
 e erkläre ich einer vermutlich jungen und engagierten Frau\, warum ich es 
 nicht als Verdienst und Aufgabe ansehe\, Citizenfour zu zeigen? Das Ergebn
 is des - letztlich von Dir initiierten Gesprächs - siehe bitte hier: http:
 //www.kino-achteinhalb.de/event/299-citizenfour.html Außerdem habe ich so 
 einen prima Vorwand\, auf unserer Internetseite auf DWN zu verlinken: http
 ://deutsche-wirtschafts-nachrichten.de/thema/snowden Also\, wenn Du die Ge
 duld aufbringst\, kannste den Film am 18.2. umsonst im achteinhalb sehen. 
 Okay\, das Ganze steht noch unter Vorbehalt. Der RLC ist demokratisch orga
 nisiert\, da müssen die anderen Mitglieder noch zustimmen\, wovon ich aber
  aufgrund meiner bisherigen Erfahrungen ausgehe.Stefan====================
 =======================================Ein weiteres Beispiel ist dieser Em
 ailkontakt mit einer Schülerin einer sechsten Klasse:Von: 'Marieke ' &lt\;
 Marieke@&gt\; Gesendet: 24.10.xx 12:02:16 An: achteinhalb@ Betreff: Lippel
 s traum Hallo ich bin Marieke. Ich gehe in die 6.Klasse des KAV-G und mein
 e Klasse interessiert sich für den Film 'Lippels Traum'. Ist es möglich di
 esen Film in nächster Zeit bei euch zu sehen? Würde mich über eine schnell
 e Antwort freuen!  =======================================================
 =========From: achteinhalb@ To: 'Marieke' &lt\;Marieke@d&gt\; Sent: Saturd
 ay\, October 24\, 20xx 23:12 Subject: Re: Lippels Traum Liebe Marieke\, we
 lchen Film meint Ihr denn bitte? Den von 1990: Lippels Traum (1990)Länge: 
 84 Minuten Erstaufführung: 21.3.1991/November 1991 Video Regie: Karl-Heinz
  Käfer Buchvorlage: Paul Maar (Jugendbuch) Darsteller: Constantin Trettler
  (Lippel)\, Gila von Weitershausen (Mutter)\, Felix von Manteuffel (Vater)
 \, Hannelore Hoger (Frau Jeschke)\, Siegfried Kernen (Herr Göltenpott) Kur
 zkritik Als seine Eltern verreisen und er mit einer ungeliebten Haushälter
 in alleine zurückbleiben muß\, zieht sich ein Junge in einen Traum zurück 
 - in eine märchenhafte Abenteuergeschichte wie aus '1.001 Nacht'\, in der 
 die Personen aus seinem Alltag als Märchenfiguren wieder auftauchen. In je
 der Nacht träumt Lippel den Traum ein bißchen weiter bis zum Happy-End und
  löst damit auch die Probleme seines Alltags. Fantasievoller Abenteuerfilm
  für Kinder: witzig\, spannend und auch lehrreich. - Ab 6. oder den von 20
 09: Lippels Traum (2009) Länge: 101 Minuten Regie: Lars Büchel Buch: Ulric
 h Limmer\, Paul Maar Buchvorlage: Paul Maar (Jugendbuch) Musik: Konstantin
  Wecker Darsteller: Karl Alexander Seidel (Lippel)\, Anke Engelke (Frau Ja
 kob/Böse  Tante)\, Moritz Bleibtreu (König/Otto Mattenheim)\, Christiane P
 aul  (Serafina/Wirtstochter)\, Amrita Cheema (Hamide)\, Steve-Marvin Dwuma
 h  (Arslan)\, Marius Weingarten (Hermann/Wirtssohn)\, Uwe Ochsenknecht (Ko
 nrektor Färber/Herbergswirt)\, Edgar Selge (Herr Schmiedle)\, Eva Mattes (
 Frau Hofstetter) Kurzkritik: Als sein alleinerziehender Vater beruflich ve
 rreisen muss\, wird ein etwa zehnjähriger Schuljunge aus Passau einer neue
 n Haushälterin anvertraut\, die ihn schon bald so sehr drangsaliert\, dass
  er sich in seinen Träumen in eine exotische Märchenwelt flüchtet\, in der
  die Personen seines Alltags in Intrigen und gefährliche Abenteuer verstri
 ckt werden. Unterhaltsame Kinderbuchverfilmung voller attraktiver Schauwer
 te und Effekte\, die solide unterhält. Gleichwohl schlägt der Film aus der
  schönen Romanidee\, dass Träume helfen können\, die Wirklichkeit besser z
 u verstehen und zu bewältigen\, nur wenig Kapital und setzt eher auf Abent
 euer\, Slapstick und Klamotte. - Ab 6 möglich. ===========================
 ======================== Von: 'Marieke' &lt\;Marieke@&gt\; Gesendet: 24.10
 .20xx 12:22:13 An: achteinhalb@ Betreff: Re: Lippels Traum Liebes Kino ach
 teinhalb\, Ich meine den Film von 2009 nach dem Buch von Paul Maar. Liebe 
 Grüße Marieke ============================================================
 =========== Von: achteinhalb@ Gesendet: 24.10.20xx 20:34:52 An: 'Marieke' 
 &lt\;Marieke@&gt\; Betreff: Re: Lippels Traum Liebe Marieke\, alles klar. 
 Nebenbei: Beide Film sind nach dem Buch von Paul Maar. Ich glaube nicht\, 
 dass wir das hinkriegen\, der Film ist ja gerade erst rausgekommen. Aber i
 ch frage Dienstag mal den Verleih. Wie viele Schüler seid Ihr denn und um 
 welche Tageszeit wollt Ihr den Film sehen? schönen Gruß Stefan ===========
 ======================================== Von: 'Marieke' &lt\;Marieke@&gt\;
  Gesendet: 26.10.xx 16:00:34 An: achteinhalb@ Betreff: Re: Lippels Traum H
 allo lieber Stefan Es würden 30-50 Leute kommen! Wir würden gerne an einem
  Dienstag Nachmittag in euer Kino kommen! Sollten die 30-50 Personen nicht
  genug sein\, würde ich gerne wissen wollen\, wie viele Besucher kommen mü
 ssten? Viele Grüße Marieke =================================== Von: achtei
 nhalb@ Gesendet: 28.10.2009 19:39:57 An: 'Marieke' &lt\;Marieke@&gt\; Betr
 eff: Re: Lippels Traum Liebe Marieke\, ich hätte ehrlich gesagt nicht geda
 cht\, dass es klappt\; aber genauso ehrlich gesagt\, fällt es uns schwer\,
  Dir Deine Bitte abzuschlagen. Ich habe mit Disney telefoniert\, von deren
  Seite geht das klar. Wir vom achteinhalb treffen uns morgen und sprechen 
 darüber. Petra vom achteinhalb ruft Dich dann die nächsten Tage an. Das Ga
 nze kostet uns ca. 150 Euro Filmkosten und würde dann im November stattfin
 den. Du bzw. Ihr müsstet dann bitte dafür sorgen\, dass mindestens 30 Kind
 er kommen. Der Eintritt wäre drei Euro. Kinder\, die die drei Euro nicht ü
 ber haben\, sollen aber bitte auch kommen\, daher müssten die anderen Kind
 er für ihre Mitschüler dann halt bitte mitbezahlen. Und wir hätten gerne v
 orher einen Kontakt zu Eurer Klassenlehrerin. Und wir wünschen uns von Euc
 h anschließend\, dass Ihr uns irgendwas bastelt auf Papier mit Bild oder F
 oto\, auf dem Ihr uns mitteilt\, wie Ihr das gefunden habt im achteinhalb.
   schöne Grüß Stefan ======================================= Von: achteinh
 alb@ Gesendet: 05.11.20xx 20:34:52 An: Marieke@ Betreff: FW: Re: Lippels T
 raum Liebe Marieke\, schau mal hier: www.kino-achteinhalb.de/programm und 
 vergesst nicht: 'Und wir wünschen uns von Euch anschließend\, dass Ihr uns
  irgendwas bastelt auf Papier mit Bild oder Foto\, auf dem Ihr uns mitteil
 t\, wie Ihr das gefunden habt im achteinhalb.' Falls Du noch eine Klasse k
 ennst\, die den Film sehen möchte\, dann informiere die bitte. Dann machen
  wir\, wenn es geht\, eine zweite Veranstaltung - schöne Grüße und viel Sp
 aß am Dienstag Stefan\n===================================================
 ================Zum Abschluss der aller kurioseste Filmwunsch - natürlich 
 alles wieder per Email:\nVon: xxx@t-online.de (Martina Waltzinger und Wolf
 gang Seyl) Gesendet: 02.04.08 10:21:30An: &lt\;achteinhalb@&gt\;Betreff: W
 er spinnt denn da\, Herr Doktor?  Guten Tag!Ich würde so gerne den Film 'W
 er spinnt denn da\, Herr Doktor?' (1981) mit Otto Sander\, Vicco von Bülow
 \, Sunnyi Melles u.v.a. mal wieder sehen. Es gibt ihn weder auf DVD noch i
 n VHS-Form. Gäbe es da eine Möglichkeit\, den ins 81/2-Programm einzufügen
 ?Mit freundlichen und hoffnungsvollen Grüßen Martina Waltzinger===========
 =====================================Gesendet: Freitag\, 25. April 2008 um
  22:19 UhrVon: achteinhalb@An: xxx@t-online.deBetreff: Wer spinnt denn da\
 , Herr Doktor? Liebe Martina Waltzinger\,ehrlich gesagt\, hielt ich Ihre A
 nfrage vom 2. April für ziemlich abseitig. Ich kriege ne Menge in meinen A
 ugen absurder Anfragen wegen irgendwelcher Filmchen. Aber da ich geflissen
 tlich jeden Hinweis ernsthaft nachgehe\, wenn auch oft unter Stöhnen und d
 er Meinung\, dass die Leute eh glauben\, dass ich Nein sage ohne nachzuden
 ken\, las ich wie immer die dazugehörige Kritik und dachte\, eigentlich ga
 nz witzig.Dann hatte ich aber den notwendigen Filmkatalog für alte Streife
 n unter Bildzeitungen und den Playboymagazinen vergraben. Diese Woche fand
  ich ihn\, stand drin\, Rechte liegen bei Kinowelt\, aber es gäbe keine Ko
 pie mehr\, Thema erledigt.Bei alten Filmen gibt es entweder einen Verleih\
 , der die Rechte aber keine Kopie hat\, um die Lagerkosten zu sparen oder 
 jemand hat ne Kopie aber keine Rechte\, im Idealfall\, also Regelfall\, gi
 bt es keinen Verleih\, keine Rechte und keine Kopie. Resultat ist immer da
 s gleiche: keine Vorführung. Dachte\, damit Sie mir glauben\, google ich d
 as Teil noch mal und gucke bei Ebay. Ich fand sogar einen einzigen Hinweis
  auf ne Videoversion!Dachte\, na gut\, ruf mal bei Kinowelt Leipzig an\, o
 b da einer was weiß.Der Streifen ist von 1982\, alle Mitarbeiter\, die 198
 2 bereits im Geschäft waren\, sind ja mittlerweile zwangsverrentet und im 
 Zuge der Rentenreform ausgebürgert worden.Na ja\, habe ja ne Flatrate und 
 ohnehin zu viel Zeit. Bei Kinowelt war die Disponentin für Verleihbezirk H
 H gerade auf dem Filmfest in Baden Baden.Die Kollegin kannte den Titel nic
 ht\, fragte die anderen in der Firma\, keiner kannte den Titel.Dann guckte
  sie in die Datenbank und sagte mir\, sie hätten keine Filmrechte\, seien 
 abgelaufen.Lizenzgeber sei Bavaria\, falls ich meine Odyssee da fortsetzen
  wolle.Da ich kein Freund von kurzen Telefonaten bin\, fragte ich\, ob nic
 ht jemand wisse\, was mit einem Video sei. Irgendwas wie sportlicher Ehrge
 iz war bei der jungen Frau erwacht. Sie sagte\, sie wolle noch mal nachfor
 schen und werde mich zurückrufen. Heute kam ihr Anruf\, sie hätten in Bad 
 Herzberg noch ne Kopie rumliegen und sie hätten auch noch die Rechte. (Ver
 mutlich wird jetzt demjenigen gekündigt\, der vergessen hat\, die Rechte z
 u kündigen.) Ich sagte ihr\, mir wird zwar beim Vorführen die Kopie zusamm
 enbrechen\, aber dann will ich sie bei uns beerdigen. Sie sagte\, sie woll
 e mal gucken\, ob es in den letzten Jahren überhaupt ein Kino gab\, das de
 n Film zeigte. Fehlanzeige\, keinerlei Einsätze seit Einführung der EDV.Wi
 r schütteten uns aus vor Lachen. Dann sagte ich: Ich weiß\, es ist abwegig
 \, aber falls es noch Plakate gäbe.... Glaube sie nicht. Stunde später Rüc
 kruf\, es soll wohl laut Lager paar schäbige A1-Plakate geben. Habe darauf
 hin zwei bestellt eins fürs achteinhalb\, eins für Sie.Dann rief mich noch
  Konrad Boneberg von Concorde an\, der bis heute auch in Baden Baden war\,
  ob ich wisse\, dass der Film\, den ich für den 17. Mai geliehen habe\, dr
 ei Wochen im Kammer lief. Also den Kammer-Streifen storniert und durch Ihr
 e Klamotte ersetzt. Sollten Sie am 16./17. nicht mit ner Hundertschaft anr
 ücken\, werde ich dafür sorgen\, dass Ihnen der Stromanschluss gesperrt wi
 rd und die Zwangskündigung Ihres ABOs der CZ einleiten!Mit schönem Grußach
 teinhalb - Kino &amp\; Kultur e.V.1. Vorsitzender Stefan Eichardt=========
 =============================Gesendet: Sonntag\, 27. April 2008 um 19:24 U
 hrVon: 'Martina Waltzinger und Wolfgang Seyl' &lt\;xxx@t-online.de&gt\;An:
  achteinhalb@Betreff: Re: Wer spinnt denn da\, Herr Doktor? Mir wurde ganz
  schlecht\, als ich Ihren Namen und Ihre Adresse in Ihrer ausführlichen un
 d netten e-mail las: Celle!! Ich lebe in Saarbrücken und habe mit 'besten 
 Wissen und Gewissen' die Anfrage an unser Kino achteinhalb im Nauwieser Vi
 ertel in Saarbrücken gesendet. Oh mein Gott\, wie peinlich...  Die Beschre
 ibung Ihrer Nachforschungen war einfach köstlich - recht herzlichen Dank f
 ür Ihre erfolgreichen Bemühungen!  Ich werde gleich an das Kino achteinhal
 b in SB schreiben und zusätzlich Ihre Mail hinzufügen. Vielleicht kann man
  da was machen.  Nochmals: Ich bitte vielmals um Entschuldigung. Ich hoffe
 \, dass trotzdem Leute ins Kino kommen und sich über den Film amüsieren. M
 it lieben Grüßen Martina Waltzinger=======================================
 ==Gesendet: Dienstag\, 13. Mai 2008 um 20:31 UhrVon: achteinhalb@An: xxx@t
 -online.deBetreff: Recherche: Wer spinnt denn da\, Herr Doktor?Liebe Marti
 na Waltzinger\, ein Treppenwitz\, den ich unmöglich für mich behalten kann
 .Siehe: www..kino-achteinhalb.de/programm/werspinntDas\, was Sie da am End
 e dieser Mail an Filmdaten sehen\, ist m. E. einzigartig - habe ich aus ve
 rschiedenen Quellen zusammenkopiert.Mit der Zeit gewinnt man ein Gefühl da
 für\, wo nach Filmen zu recherchieren ist. Ich fand ja beim ersten Mal nur
  einen Videoverweis\, aber der verlief im Sande. Das Geheimnis ist\, dass 
 der Videotitel 'Walter der Göttliche' lautet\, also unter einem anderen Ti
 tel als der Kinofilm läuft - jeder der beiden Titel schlimmer als der ande
 re. Sie können sich den Film mit Glück also auch als Video kaufen.Beste Gr
 üße nach SaarbrückenStefan Eichardt\nDaten:Kinowelt:0341/35596-307 Frau La
 nge Bezirk HH-312 SchmietzLizenzgeber: Bavaria Filmproduktionwww.ofdb.de/f
 ilm/55660\,Wer-spinnt-denn-da-Herr-DoktorErscheinungsart: VideoLabel: Euro
 videoEAN/UPC-Code: 400975012218www.filmportal.de/film/wer-spinnt-denn-da-h
 err-doktor_e9b63c07bd754ebcb5a6f92cb63cd639\nWer spinnt denn da\, Herr Dok
 tor?BR Deutschland\, 1981KomödieProduktionsfirma: Bavaria/Project/NF Geria
  II/NDRVerleih: Kino: Filmverlag der AutorenLänge: 81 MinutenFSK: ab 6\; f
 FBW: wErstaufführung: 5.3.1982Regie: Stefan Lukschy\, Christian RateukeBuc
 h: Hartmann Schmige\, Stefan Lukschy\, Christian RateukeKamera: Jörg Seidl
 Musik: Wilhelm Dieter SiebertSchnitt: Siegrun JägerDarsteller: Otto Sander
  (Nummer 7)\, Sunnyi Melles (Marlene)\, Peter Fritz (Chefarzt)\, Paul Buri
 an (Scheuermann)\, Richy Müller (Page)\, Hannelore Elsner (Frau von Schoek
 )Kritik: Fast schon hatte man den Glauben an die deutsche Filmkomödie verl
 oren. Zu viel Krampf und Klamauk bestimmten die Flut jener Filme\, die in 
 den letzten Jahren den Kinozuschauer erheitern wollten\, aber allenfalls k
 leine Zielgruppen mit ausgewalzten Gags und Kalauern unterhielten. Es war 
 bezeichnend für die Situation\, daß 1981 der 'Ernst-Lubitsch-Preis' für Ot
 to Sander an den Hauptdarsteller eines Komödienversuches ging\, der wenigs
 tens einige gelungene und humorvolle Szenen aufzuweisen hatte. Im Nachhine
 in mag man diesen Film 'Der Mann im Pyjama' als eine Fingerspitzenübung fü
 r die beiden Regisseure/Autoren Christian Rateuke und Hartmann Schmige deu
 ten\, die in ihrem neuen Film durch das inszenatorische Geschick Stefan Lu
 kschys einen bemerkenswerten Schritt nach vorn getan haben. 'Wer spinnt de
 nn da\, Herr Doktor?' ist ein Film\, der weitgehend auf platt dargebotene 
 Albernheiten verzichtet\, vielmehr durch leise\, oftmals poetische Bilder 
 und Einfälle zu gefallen weiß. Humor und Komik der Geschichte resultieren 
 in erster Linie aus genauen Beobachtungen des Alltags\, Gesten und Sätzen\
 , die in ihrer Formelhaftigkeit kaum noch Beachtung finden.Als Mittler zwi
 schen unterschiedlichsten Verhaltensweisen dient 'Nummer 7'\, Patient eine
 r Nervenheilanstalt\, dies jedoch mehr aus Ratlosigkeit der behandelnden Ä
 rzte als aufgrund handfester Symptome. 'Nummer 7' ist der reine Tor\, gutm
 ütig und offen\, der sich getreu der Devise 'Ich bin ich' hinter keiner Ma
 ske versteckt und seinen Mitmenschen mit entwaffnender Aufrichtigkeit bege
 gnet. Und gerade dies macht mißtrauisch. Nicht zum ersten Mal verläßt er u
 ngehindert die Anstalt\, um sich in die 'normale' Welt zu begeben. Er trif
 ft auf cholerische Kleinbürger (mit Autoputz-Wahn und Plastikdackel auf de
 m Auto-Rücksitz)\, eine verkaufstrategisch ausgerichtete Supermarkt-Ordnun
 g\, einen bürokratisch korrekt geführten Hotel-Betrieb. Überall wirkt sein
  Auftreten provozierend - nicht weil 'Nummer 7' provoziert\, sondern weil 
 seine Freundlichkeit Ratlosigkeit und Verwirrung stiftet. 'Sie wollen mich
  wohl auf den Arm nehmen?' fragt ein Passant\, worauf ihn 'Nummer 7' schli
 chtweg beim Wort nimmt. Die bei solchem Konzept entstehende Episoden-Anein
 anderreihung verweben die Regisseure zu einer reizvollen Einheit\, indem s
 ie eingeführte Personen immer wieder kurz auftauchen lassen. Dabei gelingt
  es ihnen\, nicht allein ein lustiges Kuriositäten-Kabinett vorzuführen\, 
 sondern auch leise\, fast wehmütige Nachdenklichkeit zu erzeugen. Manche M
 enschen leiden eben unter Leistungsdruck und Herzlosigkeit und suchen - ma
 nchmal verzweifelt - nach Auswegen. Wenigstens für 'Nummer 7' deuten die A
 utoren einen solchen an: Er findet ein Mädchen\, das ihn liebt und durch d
 as er 'da draußen' jemanden hat\, der ihm zurechthilft. So kommt es zwar z
 u keinem tiefschürfenden Ende\, aber immerhin zu einer Utopie\, die jenen 
 subversiven Charme resümiert\, der diese Komödie prägt.Horst Peter KollKri
 tik aus film-dienst Nr. 6/1982=============================Gesendet: Diens
 tag\, 18. November 2008 um 18:34 UhrVon: Gordes &lt\;GordesPaul@&gt\;An: a
 chteinhalb@Betreff: wer spinnt denn da herr doktorHallo Herr Eichardt\,hab
 e mit Spannung die Berichte über Ihre Filmsuche zu dem genannten Film gele
 sen. Ich habe ihn seinerzeit in der Fernsehausstrahlung gesehen und die Wi
 ederholung am nächsten Tag gleich auf Video gebannt. Fand den Film fantast
 isch. Habe dann aber mal bei irgendeinem Umzug vor Jahren die Cassette ver
 loren (überspielt?). Seit einigen Jahren nun googele ich gelegentlich unte
 r dem Titel und habe nie nix gefunden. EIne Verleihfirma die ihn wohl hatt
 e gibts wohl nicht mehr. Bavaria hat mir nicht mal geantwortet. Ich habe s
 ogar mal Otto Sander angeschrieben\, aber der hat keine Kopien seiner Film
 e. Zumindestens von diesem nicht. Leider habe ich Ihren Schriftverkehr jet
 zt erst entdeckt. Wissen Sie ob oder wo ich eine Kopie erwerben kann? Fall
 s sie den Streifen noch einmal vorführen- eine Hundertschaft bekomme ich a
 uch nicht zusammen. Aber mit zwei Auto´s voll könnt ich schon nach Celle k
 ommen. (Arnsberg/ Sauerland)schönen Gruß\, Paul Gordes https://www.kino-ac
 hteinhalb.de/home/archiv/event/997-jubiläumsfeier-–-25-jahre-kino-achteinh
 alb.html
DTSTART:20200215T170000Z
DTEND:20200215T225900Z
LOCATION:Kino achteinhalb (Hannoversche Straße 30E\, 29221 Celle\, Deutschl
 and (nicht Postanschrift!))
SUMMARY:Jubiläumsfeier – 25 Jahre Kino achteinhalb       
URL:https://www.kino-achteinhalb.de/home/archiv/event/997-jubiläumsfeier-–-
 25-jahre-kino-achteinhalb.html
END:VEVENT
END:VCALENDAR
