BEGIN:VCALENDAR
VERSION:2.0
PRODID:-//https://www.kino-achteinhalb.de///NONSGML kigkonsult.se iCalcreator 2.10.15//
METHOD:PUBLISH
BEGIN:VEVENT
UID:20260425T151458CEST-6611Fzeb8x@https://www.kino-achteinhalb.de/
DTSTAMP:20260425T131458Z
DESCRIPTION: https://www.kino-achteinhalb.de/home/archiv/event/810-renoir.h
 tml
DTSTART:20130419T183000Z
DTEND:20130419T200000Z
LOCATION:Kino achteinhalb (Hannoversche Straße 30E\, 29221 Celle\, Deutschl
 and (nicht Postanschrift!))
SUMMARY:Renoir
URL:https://www.kino-achteinhalb.de/home/archiv/event/810-renoir.html
END:VEVENT
END:VCALENDAR
