BEGIN:VCALENDAR
VERSION:2.0
PRODID:-//https://www.kino-achteinhalb.de///NONSGML kigkonsult.se iCalcreator 2.10.15//
METHOD:PUBLISH
BEGIN:VEVENT
UID:20260425T124335CEST-9644uToubg@https://www.kino-achteinhalb.de/
DTSTAMP:20260425T104335Z
DESCRIPTION:'Unsere 6 Filme' bringen es zusammen auf 30 Nominierungen und 1
 0 Lolas.Der Deutsche Filmpreis wird seit 2005 (analog zur Oscarverleihung)
  von den ca. 1800 Mitgliedern der 2003 gegründeten Deutschen Filmakadmie g
 ewählt.\n \nAlle Nominierungen und Gewinner auf Wikipedia\nVictoria: 9 Nom
 inierungen - 6 LolasElser – Er hätte die Welt verändert: 7 NominierungenDi
 e geliebten Schwesterni: 5 Nominierungen - 2 LolasIm Labyrinth des Schweig
 ens: 4 NominierungenCitizenfour: 3 Nominierungen - 1 LolaPhoenix: 2 Nomini
 erungen - 1 Lola https://www.kino-achteinhalb.de/home/archiv/event/793-heu
 te-abend-findet-die-verleihung-des-deutschen-filmpreises-lola-statt.html
DTSTART;VALUE=DATE:20150619
LOCATION:Kino achteinhalb (Hannoversche Straße 30E\, 29221 Celle\, Deutschl
 and (nicht Postanschrift!))
SUMMARY:Heute Abend findet die Verleihung des Deutschen Filmpreises (Lola) 
 statt.
URL:https://www.kino-achteinhalb.de/home/archiv/event/793-heute-abend-finde
 t-die-verleihung-des-deutschen-filmpreises-lola-statt.html
END:VEVENT
END:VCALENDAR
