BEGIN:VCALENDAR
VERSION:2.0
PRODID:-//https://www.kino-achteinhalb.de///NONSGML kigkonsult.se iCalcreator 2.10.15//
METHOD:PUBLISH
BEGIN:VEVENT
UID:20260425T124125CEST-0506dEMLW0@https://www.kino-achteinhalb.de/
DTSTAMP:20260425T104125Z
DESCRIPTION:'Unsere 13 Filme' bringen es zusammen auf 36 Nominierungen und 
 9 Oscars.\nDer Oscar wird seit 1928 von den ca. 8.000 Mitgliedern der Acad
 emy of Motion Picture Arts and Sciences (AMPAS) gewählt.Hier Näheres über 
 das Auswahlverfahren.\n \nAlle Nominierungen und Gewinner auf Wikipedia\nB
 irdman - oder Die unverhoffte Macht der Ahnungslosigkeit: 9 Nominierungen 
 - 4 OscarsThe Imitation Game – Ein streng geheimes Leben: 8 Nominierungen 
 - 1 OscarBoyhood: 6 Nominierungen - 1 OscarSelma: 2 Nominierungen - 1 Osca
 rDer große Trip – Wild: 2 NominierungenInherent Vice – Natürliche Mängel: 
 2 Nominierungen  Still Alice – Mein Leben ohne Gestern: 1 Nominierung - 1 
 OscarCitizenfour: 1 Nominierung - 1 OscarCan a Song Save Your Life?: 1 Nom
 inierungLeviathan: 1 NominierungTimbuktu: 1 NominierungDas Salz der Erde: 
 1 NominierungWild Tales – Jeder dreht mal durch!: 1 Nominierung https://ww
 w.kino-achteinhalb.de/home/archiv/event/791-heute-nacht-findet-die-oscarve
 rleihung-statt.html
DTSTART;VALUE=DATE:20150222
LOCATION:Kino achteinhalb (Hannoversche Straße 30E\, 29221 Celle\, Deutschl
 and (nicht Postanschrift!))
SUMMARY:Heute Nacht findet die Oscarverleihung statt.
URL:https://www.kino-achteinhalb.de/home/archiv/event/791-heute-nacht-finde
 t-die-oscarverleihung-statt.html
END:VEVENT
END:VCALENDAR
