BEGIN:VCALENDAR
VERSION:2.0
PRODID:-//https://www.kino-achteinhalb.de///NONSGML kigkonsult.se iCalcreator 2.10.15//
METHOD:PUBLISH
BEGIN:VEVENT
UID:20260424T180451CEST-0483fLSujs@https://www.kino-achteinhalb.de/
DTSTAMP:20260424T160451Z
DESCRIPTION:Prof. Dr. Rainer Mausfeld :\n1) 'Das Schweigen der Lämmer'\nYou
 tube und die Mitschrift des Vortrags als PDF in einer von ihm überarbeitet
 en Fassung. \n2) 'Die Angst der Machteliten vor dem Volk'Youtube \n3) 'Wie
  werden Meinung und Demokratie gesteuert?“ Youtube \n4) 14.9. 2017: Massen
 medien erzeugen die Illusion von einer Demokratie   \n5) 2. Oktober 2018: 
 Wir leben in einer Zeit der Gegenaufklärung     6) 2.12. 2018 - Audio-Inte
 rview in SR2   \n7) 8. Dezember 2018: Dissensmanagement durch Zersetzung u
 nd Spaltung   \n \nWestend-Verlag: Das Buch: Warum schweigen die Lämmer?\n
 Kritik der Süddeutschen Zeitung\n \n \n \n \nDas Schweigen der Lämmer: {yo
 utube}Rx5SZrOsb6M{/youtube}\n \nDie Angst der Machteliten vor dem Volk: {y
 outube}Rk6I9gXwack{/youtube}\n \nWie werden Meinung und Demokratie gesteue
 rt?: {youtube}AU8hjfhAAxg{/youtube}\n \n \n \n \nAuch recht aufschlussreic
 h: Cornelia Koppetsch im Interview mit dem Magazin der Süddeutschen Zeitun
 g: 'Freiheit ist kapitalistischer Mainstream'.Hier das Interview als PDF. 
 https://www.kino-achteinhalb.de/home/archiv/event/391-philosophie-warum-sc
 hweigen-die-lämmer-meinungsmanagemant-in-demokratischen-gesellschaften.htm
 l
DTSTART:20150805T173000Z
DTEND:20150831T193000Z
LOCATION:Kino achteinhalb (Hannoversche Straße 30E\, 29221 Celle\, Deutschl
 and (nicht Postanschrift!))
SUMMARY:Philosophie: Warum Schweigen die Lämmer? - Meinungsmanagemant in de
 mokratischen Gesellschaften
URL:https://www.kino-achteinhalb.de/home/archiv/event/391-philosophie-warum
 -schweigen-die-lämmer-meinungsmanagemant-in-demokratischen-gesellschaften.
 html
END:VEVENT
END:VCALENDAR
