BEGIN:VCALENDAR
VERSION:2.0
PRODID:-//https://www.kino-achteinhalb.de///NONSGML kigkonsult.se iCalcreator 2.10.15//
METHOD:PUBLISH
BEGIN:VEVENT
UID:20260424T164533CEST-74995F26s0@https://www.kino-achteinhalb.de/
DTSTAMP:20260424T144533Z
DESCRIPTION: https://www.kino-achteinhalb.de/home/archiv/event/377-sommerpa
 use-bis-anfang-september.html
DTSTART:20150801T183000Z
DTEND:20150901T203000Z
LOCATION:Kino achteinhalb (Hannoversche Straße 30E\, 29221 Celle\, Deutschl
 and (nicht Postanschrift!))
SUMMARY:SOMMERPAUSE bis Anfang September
URL:https://www.kino-achteinhalb.de/home/archiv/event/377-sommerpause-bis-a
 nfang-september.html
END:VEVENT
END:VCALENDAR
