BEGIN:VCALENDAR
VERSION:2.0
PRODID:-//https://www.kino-achteinhalb.de///NONSGML kigkonsult.se iCalcreator 2.10.15//
METHOD:PUBLISH
BEGIN:VEVENT
UID:20260423T190938CEST-3420OkuvWv@https://www.kino-achteinhalb.de/
DTSTAMP:20260423T170938Z
DESCRIPTION:Wir haben Unmengen 'Champagner' von Jaques Weindepot für die si
 eben Abende kühl gestellt\, um mit unserem Publikum anzustoßen. (Natürlich
  gibt es auch O-Saft und für die ganz Hartgesottenen sogar Wasser.)Wir zei
 gen viermal 'Riefenstahl' und zweimal 'Die leisen und die großen Töne' für
  jeweils 5 Euro Eintritt und am Sonntag die Theaterinszenierung 'Leni Rief
 enstahl &amp\; Susan Sontag' in der Halle 19 (Eintritt 20 Euro).\n \nHier 
 Links zu einigen Texten über das achteinhalb:Artikel der Celler Presse (vo
 n Anke Schlicht) vom 11. JanuarDer Artikel von CelleHeute (von Klaus M. Fr
 ieling) vom 8. Januar 2025Unser Newsletter zum 30jährigen Jubiläum (6. Jan
 uar 2025)Ankündigung der Celleschen Zeitung (Oliver Gatz) vom 4. Januar 20
 25Artikel in artechock von Stefan Eichardt vom 26.10.2023Unsere Jubiläumsf
 eier zum 25jährigen BestehenDer Artikel der CZ (von Doris Hennies) zu unse
 rem 25jährigen JubiläumDer Artikel von Celle Heute (von Anke Schlicht) zu 
 unserem 25jährigen JubiläumInterview in der revista 83 aus Januar 2017   I
 nterview in der revista aus Oktober 2013  Wir über unsPorträt in der Kinem
 a Kommunal 2009/02 zum 15jährigen Jubiläum des achteinhalbs Eigendarstellu
 ng des achteinhalbs im Kalender des Bunten Hauses (aus 2002) https://www.k
 ino-achteinhalb.de/home/archiv/event/2676-jubiläumswoche-30-jahre-achteinh
 alb.html
DTSTART:20250108T230100Z
DTEND:20250115T225900Z
LOCATION:Kino achteinhalb (Hannoversche Straße 30E\, 29221 Celle\, Deutschl
 and (nicht Postanschrift!))
SUMMARY:Jubiläumswoche: 30 Jahre achteinhalb
URL:https://www.kino-achteinhalb.de/home/archiv/event/2676-jubiläumswoche-3
 0-jahre-achteinhalb.html
END:VEVENT
END:VCALENDAR
