BEGIN:VCALENDAR
VERSION:2.0
PRODID:-//https://www.kino-achteinhalb.de///NONSGML kigkonsult.se iCalcreator 2.10.15//
METHOD:PUBLISH
BEGIN:VEVENT
UID:20260425T124205CEST-3075iZD5xa@https://www.kino-achteinhalb.de/
DTSTAMP:20260425T104205Z
DESCRIPTION:Die Hauptpreise sind im Unterschied zu den Sonderpreisen keine 
 Jurypreise. Über die Nominierten in den einzelnen Kategorien stimmen die c
 a. 2500 Mitglieder der Europäischen Filmakademie (EFA) (nach dem Vorbild d
 er Oscarverleihung\, daher auch die Bezeichnung 'europäischer Oscar') per 
 Briefwahl ab. Sie erhalten dafür Kopien der Filme zugestellt. \n'Unsere 9 
 Filme' bringen es zusammen auf 18 der 30 Nominierungen. Wobei einige der n
 ominierten Filme wie z. B. 'Nelyubov' in Deutschland noch keinen Kinostart
  hatten.\nHier zum Livestream der Veranstaltungoder hier \n \nAlle Nominie
 rungen und Gewinner auf Wikipedia\n \nDie Filme die größtenteils bereits b
 ei uns liefen oder noch laufen werden:\n'The Square': 6 Nominierungen und 
 sechsmal GewinnerBester Film\, Beste Komödie\, Beste Regie\, Bestes Drehbu
 ch\, Bester Darsteller\, Bestes Szenenbild 'Körper und Seele': 4 Nominieru
 ngen und einmal Gewinner - Beste Darstellerin'Happy End': 2 Nominierungen'
 Die andere Seite der Hoffnung': 2 Nominierungen'Frantz': 2 Nominierungen'V
 or der Morgenröte': 1 Nominierung\nAm 2./3. Februar: 'Meine schöne innere 
 Sonne'. 1 NominierungAm 2./3. März: 'Loving Vincent': 1 Nominierung und ei
 n Gewinn - Bester Animationsfilm\n \nZudem stehen 'Die Überglücklichen'\, 
 'Frantz' und 'Vor der Morgenröte' zur Wahl als Publikumspreis.'Vor der Mor
 genröte - Stefan Zweig in Amerika' von Maria Schrader hat den Publikumspre
 is gewonnen.Süddeutsche Zeitung zur Preisvergabe\n \nORF2 ZIB (74 Sekunden
 ):{youtube}0M1pE2vO4b0{/youtube}ZDF Heute (99 Sekunden):{youtube}jkxyvGM4j
 D4{/youtube} https://www.kino-achteinhalb.de/event/960-heute-abend-findet-
 in-berlin-die-verleihung-des-europäischen-filmpreises-statt.html
DTSTART;VALUE=DATE:20171210
LOCATION:Kino achteinhalb (Hannoversche Straße 30E\, 29221 Celle\, Deutschl
 and (nicht Postanschrift!))
SUMMARY:Heute Abend findet in Berlin die Verleihung des Europäischen Filmpr
 eises statt
URL:https://www.kino-achteinhalb.de/event/960-heute-abend-findet-in-berlin-
 die-verleihung-des-europäischen-filmpreises-statt.html
END:VEVENT
END:VCALENDAR
