BEGIN:VCALENDAR
VERSION:2.0
PRODID:-//https://www.kino-achteinhalb.de///NONSGML kigkonsult.se iCalcreator 2.10.15//
METHOD:PUBLISH
BEGIN:VEVENT
UID:20260423T142013CEST-0833pVuCvU@https://www.kino-achteinhalb.de/
DTSTAMP:20260423T122013Z
DESCRIPTION:Der Deutsche Filmpreis wird seit 2005 (analog zur Oscarverleihu
 ng) von den ca. 1800 Mitgliedern der 2003 gegründeten Deutschen Filmakadem
 ie gewählt.\nHier die Nominierungen für den Deutschen Filmpreis 2026.\n'Un
 sere' acht Filme (Das Verschwinden des Josef Mengele\, In die Sonne schaue
 nAch\, diese Lücke\, diese entsetzliche Lücke\, Der Held vom Bahnhof Fried
 richstraße\,Gelbe Briefe\, Im Prinzip Familie\, Siri Hustvedt – Dance Arou
 nd the Self\,Soldaten des Lichts)erhielten zusammen 41 Nominierungen.  htt
 ps://www.kino-achteinhalb.de/event/3033-heute-abend-findet-die-verleihung-
 des-deutschen-filmpreises-lola-statt.html
DTSTART;VALUE=DATE:20260530
LOCATION:Kino achteinhalb (Hannoversche Straße 30E\, 29221 Celle\, Deutschl
 and (nicht Postanschrift!))
SUMMARY:Heute Abend findet die Verleihung des Deutschen Filmpreises (Lola) 
 statt. 
URL:https://www.kino-achteinhalb.de/event/3033-heute-abend-findet-die-verle
 ihung-des-deutschen-filmpreises-lola-statt.html
END:VEVENT
END:VCALENDAR
