BEGIN:VCALENDAR
VERSION:2.0
PRODID:-//https://www.kino-achteinhalb.de///NONSGML kigkonsult.se iCalcreator 2.10.15//
METHOD:PUBLISH
BEGIN:VEVENT
UID:20260425T123742CEST-0986v6zwZL@https://www.kino-achteinhalb.de/
DTSTAMP:20260425T103742Z
DESCRIPTION:Zum sechsten Mal in Celle.Stefan Eichardt vom Kino achteinhalb 
 sagt: 'Emma' ist wirklich ein Glücksfall\, wo einfach verdammt vieles pass
 t und sich zu einem unvergesslichen\, beglückenden Theaterabend fügt.'\n'E
 mmas Glück'\, geschrieben von Kerstin Wittstamm (Schauspiel) und Caspar Ha
 rlan (Regie) von der Freien Bühne Wendland\, ist die Bühnenfassung des gle
 ichnamigen Erfolgsromans von Claudia Schreiber\, dessen Verfilmung auch im
  Kino ein großer Erfolg war.Ein Einpersonenstück\, in dem alle zehn Figure
 n von Kerstin Wittstamm gespielt werden. \nKurzfassung: Emma züchtet und s
 chlachtet Schweine auf ihrem heruntergekommenen\, hoffnungslosl verschulde
 ten Bauernhof\, der kurz vor der Zwangsversteigerung steht. Sie arbeitet u
 nd lebt dort allein. Seit Jahren betet sie vor dem Schlafengehen: “Lieber 
 Gott mach mich reich oder glücklich” - von 'und' war eigentlich nie die Re
 de: Aber eines Nachts wird sie von einem lauten Knall geweckt - nicht mal 
 eine halbe Stunde später hat sie eine Tüte voller Geld unter der Matratze 
 und einen bewusstlosen Mann nackt auf ihrem Bett liegen - Max. Max hat Bau
 chspeicheldrüsenkrebs und ist auf der Flucht vor dem Sterben auf dem Weg n
 ach Mexiko. Er hat seinem Freund und Arbeitspartner Hans fünfzigtausend Do
 llar Schwarzgeld und einen Ferrari geklaut\, mit dem er in der Kurve von d
 er Landstraße abgekommen und so auf Emmas Hof gelandet ist. Der Beginn ein
 er skurrilen und herzzerreißenden Liebesgeschichte. Sie handelt vom Sterbe
 n\, erzählt aber von der unbändigen Lust auf Leben.Internetseite von Kerst
 in WittstammInternetseite der Freien Bühne Wendland\n            Dauer: zw
 ei Stunden inkl. 15-minütiger PauseOrt: Open-Air-Bühne im Innenhof der CD-
 KaserneEinlass/Tageskasse: ab 15.30 UhrBeginn: 16.30 UhrPause: ca. 17.30 U
 hrEnde: ca. 18.30 Uhr\nVorverkauf im Kino achteinhalboder über die Ticketf
 unktion der CD-Kaserne Eintritt: 20\,- Euroermäßigt: 12\,- Euro\nReservier
 ung über die Reservierungsfunktion dieser Webseite oder per Email an 'kont
 akt@kino-achteinhalb.de'Die ermäßigten Karten gelten für Schüler/Studenten
  unter 20 Jahre\, Schwerbehinderte\, Bezieher von SGB II und SGB XI.\n\nAn
  der Tageskasse (ab 15.30 Uhr) gelten die gleichen Preise wie im Vorverkau
 f.Reservierte Karten verfallen um 16.20 Uhr. Die Karten sind nicht nummeri
 ert\, freie Platzwahl.Die CD-Kaserne verkauft Getränke und Allerlei.Sollte
  die Veranstaltung witterungsbedingt ausfallen\, erstatten wir Ihnen den K
 artenpreis zurück.\n https://www.kino-achteinhalb.de/event/1880-emmas-glüc
 k-beginn-16-30-uhr.html
DTSTART:20220619T143000Z
DTEND:20220619T164500Z
LOCATION:Open-Air-Bühne im Innenhof der CD-Kaserne ( )
SUMMARY:Emmas Glück (Beginn 16.30 Uhr)
URL:https://www.kino-achteinhalb.de/event/1880-emmas-glück-beginn-16-30-uhr
 .html
END:VEVENT
END:VCALENDAR
